BEGIN:VCALENDAR
CALSCALE:GREGORIAN
VERSION:2.0
METHOD:PUBLISH 
X-WR-CALNAME:
BEGIN:VEVENT
DTSTART;TZID=Europe/Paris:20260726T200000
DTEND;TZID=Europe/Paris:20260726T210000
SUMMARY:GANGBÉ BRASS BAND / ANGÉLIQUE KIDJO
CATEGORIE:Concerts et Musique
GEO:44.05237590000000;3.98348740000000
LOCATION:18 Avenue du Pasteur Rollin\, 30140 Anduze\, France
URL:https://www.fest.fr/e/2411418
UID:2411418-1@fest.fr
END:VEVENT
END:VCALENDAR
