BEGIN:VCALENDAR
CALSCALE:GREGORIAN
VERSION:2.0
METHOD:PUBLISH 
X-WR-CALNAME:
BEGIN:VEVENT
DTSTART;TZID=Europe/Paris:20260724T103000
DTEND;TZID=Europe/Paris:20260724T113000
SUMMARY:GIANNI VERSACE RETROSPECTIVE
CATEGORIE:Expositions, Visites et Découvertes
GEO:48.85478160000000;2.32490930000000
LOCATION:59-61 rue de Grenelle\, 75007 Paris 7e\, France
URL:https://www.fest.fr/e/2411363
UID:2411363-1@fest.fr
END:VEVENT
BEGIN:VEVENT
DTSTART;TZID=Europe/Paris:20260724T110000
DTEND;TZID=Europe/Paris:20260724T120000
SUMMARY:GIANNI VERSACE RETROSPECTIVE
CATEGORIE:Expositions, Visites et Découvertes
GEO:48.85478160000000;2.32490930000000
LOCATION:59-61 rue de Grenelle\, 75007 Paris 7e\, France
URL:https://www.fest.fr/e/2411363
UID:2411363-2@fest.fr
END:VEVENT
BEGIN:VEVENT
DTSTART;TZID=Europe/Paris:20260724T113000
DTEND;TZID=Europe/Paris:20260724T123000
SUMMARY:GIANNI VERSACE RETROSPECTIVE
CATEGORIE:Expositions, Visites et Découvertes
GEO:48.85478160000000;2.32490930000000
LOCATION:59-61 rue de Grenelle\, 75007 Paris 7e\, France
URL:https://www.fest.fr/e/2411363
UID:2411363-3@fest.fr
END:VEVENT
BEGIN:VEVENT
DTSTART;TZID=Europe/Paris:20260724T120000
DTEND;TZID=Europe/Paris:20260724T130000
SUMMARY:GIANNI VERSACE RETROSPECTIVE
CATEGORIE:Expositions, Visites et Découvertes
GEO:48.85478160000000;2.32490930000000
LOCATION:59-61 rue de Grenelle\, 75007 Paris 7e\, France
URL:https://www.fest.fr/e/2411363
UID:2411363-4@fest.fr
END:VEVENT
BEGIN:VEVENT
DTSTART;TZID=Europe/Paris:20260724T123000
DTEND;TZID=Europe/Paris:20260724T133000
SUMMARY:GIANNI VERSACE RETROSPECTIVE
CATEGORIE:Expositions, Visites et Découvertes
GEO:48.85478160000000;2.32490930000000
LOCATION:59-61 rue de Grenelle\, 75007 Paris 7e\, France
URL:https://www.fest.fr/e/2411363
UID:2411363-5@fest.fr
END:VEVENT
BEGIN:VEVENT
DTSTART;TZID=Europe/Paris:20260724T130000
DTEND;TZID=Europe/Paris:20260724T140000
SUMMARY:GIANNI VERSACE RETROSPECTIVE
CATEGORIE:Expositions, Visites et Découvertes
GEO:48.85478160000000;2.32490930000000
LOCATION:59-61 rue de Grenelle\, 75007 Paris 7e\, France
URL:https://www.fest.fr/e/2411363
UID:2411363-6@fest.fr
END:VEVENT
BEGIN:VEVENT
DTSTART;TZID=Europe/Paris:20260724T133000
DTEND;TZID=Europe/Paris:20260724T143000
SUMMARY:GIANNI VERSACE RETROSPECTIVE
CATEGORIE:Expositions, Visites et Découvertes
GEO:48.85478160000000;2.32490930000000
LOCATION:59-61 rue de Grenelle\, 75007 Paris 7e\, France
URL:https://www.fest.fr/e/2411363
UID:2411363-7@fest.fr
END:VEVENT
BEGIN:VEVENT
DTSTART;TZID=Europe/Paris:20260724T140000
DTEND;TZID=Europe/Paris:20260724T150000
SUMMARY:GIANNI VERSACE RETROSPECTIVE
CATEGORIE:Expositions, Visites et Découvertes
GEO:48.85478160000000;2.32490930000000
LOCATION:59-61 rue de Grenelle\, 75007 Paris 7e\, France
URL:https://www.fest.fr/e/2411363
UID:2411363-8@fest.fr
END:VEVENT
BEGIN:VEVENT
DTSTART;TZID=Europe/Paris:20260724T143000
DTEND;TZID=Europe/Paris:20260724T153000
SUMMARY:GIANNI VERSACE RETROSPECTIVE
CATEGORIE:Expositions, Visites et Découvertes
GEO:48.85478160000000;2.32490930000000
LOCATION:59-61 rue de Grenelle\, 75007 Paris 7e\, France
URL:https://www.fest.fr/e/2411363
UID:2411363-9@fest.fr
END:VEVENT
BEGIN:VEVENT
DTSTART;TZID=Europe/Paris:20260724T150000
DTEND;TZID=Europe/Paris:20260724T160000
SUMMARY:GIANNI VERSACE RETROSPECTIVE
CATEGORIE:Expositions, Visites et Découvertes
GEO:48.85478160000000;2.32490930000000
LOCATION:59-61 rue de Grenelle\, 75007 Paris 7e\, France
URL:https://www.fest.fr/e/2411363
UID:2411363-10@fest.fr
END:VEVENT
BEGIN:VEVENT
DTSTART;TZID=Europe/Paris:20260724T153000
DTEND;TZID=Europe/Paris:20260724T163000
SUMMARY:GIANNI VERSACE RETROSPECTIVE
CATEGORIE:Expositions, Visites et Découvertes
GEO:48.85478160000000;2.32490930000000
LOCATION:59-61 rue de Grenelle\, 75007 Paris 7e\, France
URL:https://www.fest.fr/e/2411363
UID:2411363-11@fest.fr
END:VEVENT
BEGIN:VEVENT
DTSTART;TZID=Europe/Paris:20260724T160000
DTEND;TZID=Europe/Paris:20260724T170000
SUMMARY:GIANNI VERSACE RETROSPECTIVE
CATEGORIE:Expositions, Visites et Découvertes
GEO:48.85478160000000;2.32490930000000
LOCATION:59-61 rue de Grenelle\, 75007 Paris 7e\, France
URL:https://www.fest.fr/e/2411363
UID:2411363-12@fest.fr
END:VEVENT
BEGIN:VEVENT
DTSTART;TZID=Europe/Paris:20260724T163000
DTEND;TZID=Europe/Paris:20260724T173000
SUMMARY:GIANNI VERSACE RETROSPECTIVE
CATEGORIE:Expositions, Visites et Découvertes
GEO:48.85478160000000;2.32490930000000
LOCATION:59-61 rue de Grenelle\, 75007 Paris 7e\, France
URL:https://www.fest.fr/e/2411363
UID:2411363-13@fest.fr
END:VEVENT
BEGIN:VEVENT
DTSTART;TZID=Europe/Paris:20260724T170000
DTEND;TZID=Europe/Paris:20260724T180000
SUMMARY:GIANNI VERSACE RETROSPECTIVE
CATEGORIE:Expositions, Visites et Découvertes
GEO:48.85478160000000;2.32490930000000
LOCATION:59-61 rue de Grenelle\, 75007 Paris 7e\, France
URL:https://www.fest.fr/e/2411363
UID:2411363-14@fest.fr
END:VEVENT
BEGIN:VEVENT
DTSTART;TZID=Europe/Paris:20260724T173000
DTEND;TZID=Europe/Paris:20260724T183000
SUMMARY:GIANNI VERSACE RETROSPECTIVE
CATEGORIE:Expositions, Visites et Découvertes
GEO:48.85478160000000;2.32490930000000
LOCATION:59-61 rue de Grenelle\, 75007 Paris 7e\, France
URL:https://www.fest.fr/e/2411363
UID:2411363-15@fest.fr
END:VEVENT
END:VCALENDAR
