BEGIN:VCALENDAR
CALSCALE:GREGORIAN
VERSION:2.0
METHOD:PUBLISH 
X-WR-CALNAME:
BEGIN:VEVENT
DTSTART;TZID=Europe/Paris:20260812T200000
DTEND;TZID=Europe/Paris:20260812T210000
SUMMARY:Maxime Penet - C'était Mieux Avant
CATEGORIE:Spectacles et théâtre
GEO:45.18116047829200;5.71605140747900
LOCATION:Comédie de Grenoble\, 1 Rue Pierre Dupont\, 38000 Grenoble\, France
URL:https://www.fest.fr/e/2411321
UID:2411321-1@fest.fr
END:VEVENT
END:VCALENDAR
