BEGIN:VCALENDAR
CALSCALE:GREGORIAN
VERSION:2.0
METHOD:PUBLISH 
X-WR-CALNAME:
BEGIN:VEVENT
DTSTART;TZID=Europe/Paris:20260519T080000
DTEND;TZID=Europe/Paris:20260519T090000
SUMMARY:Défi Mobilité
CATEGORIE:Social et solidaire
GEO:45.76319500000000;4.76179400000000
LOCATION:Ecole Baraillon\, 8 chemin du Baraillon, Tassin\, 69160 Tassin-la-Demi-Lune\, France
URL:https://www.fest.fr/e/2411303
UID:2411303-1@fest.fr
END:VEVENT
END:VCALENDAR
