BEGIN:VCALENDAR
CALSCALE:GREGORIAN
VERSION:2.0
METHOD:PUBLISH 
X-WR-CALNAME:
BEGIN:VEVENT
DTSTART;TZID=Europe/Paris:20260716T203000
DTEND;TZID=Europe/Paris:20260716T213000
SUMMARY:PAOLO ZANZU
CATEGORIE:Concerts et musique
GEO:43.10343910000000;5.84075250000000
LOCATION:Montee du Fort\, 83140 Six-Fours-les-Plages\, France
URL:https://www.fest.fr/e/2411186
UID:2411186-1@fest.fr
END:VEVENT
END:VCALENDAR
