BEGIN:VCALENDAR
CALSCALE:GREGORIAN
VERSION:2.0
METHOD:PUBLISH 
X-WR-CALNAME:
BEGIN:VEVENT
DTSTART;TZID=Europe/Paris:20260707T190000
DTEND;TZID=Europe/Paris:20260707T200000
SUMMARY:BURNING SPEAR + STEEL PULSE
CATEGORIE:Concerts et musique
GEO:45.76790900000000;4.98168900000000
LOCATION:5 Avenue Simone Veil\, 69150 Décines-Charpieu\, France
URL:https://www.fest.fr/e/2411081
UID:2411081-1@fest.fr
END:VEVENT
END:VCALENDAR
