BEGIN:VCALENDAR
CALSCALE:GREGORIAN
VERSION:2.0
METHOD:PUBLISH 
X-WR-CALNAME:
BEGIN:VEVENT
DTSTART;TZID=Europe/Paris:20260701T200000
DTEND;TZID=Europe/Paris:20260701T210000
SUMMARY:Israel Galvan &amp; Michael Leonhart
CATEGORIE:Spectacles et Théâtre
GEO:43.30009120000000;5.36801840000000
LOCATION:2, Rue de la Charite\, 13002 Marseille 2e\, France
URL:https://www.fest.fr/e/2410989
UID:2410989-1@fest.fr
END:VEVENT
END:VCALENDAR
