BEGIN:VCALENDAR
CALSCALE:GREGORIAN
VERSION:2.0
METHOD:PUBLISH 
X-WR-CALNAME:
BEGIN:VEVENT
DTSTART;TZID=Europe/Paris:20260626T180000
DTEND;TZID=Europe/Paris:20260626T190000
SUMMARY:RETRO C TROP 2026 - Vendredi &amp; Samedi
CATEGORIE:Concerts et Musique
GEO:49.68915190000000;2.78319950000000
LOCATION:Route de Dancourt\, 80700 Tilloloy\, France
URL:https://www.fest.fr/e/2410887
UID:2410887-1@fest.fr
END:VEVENT
END:VCALENDAR
