BEGIN:VCALENDAR
CALSCALE:GREGORIAN
VERSION:2.0
METHOD:PUBLISH 
X-WR-CALNAME:
BEGIN:VEVENT
DTSTART;TZID=Europe/Paris:20260625T140000
DTEND;TZID=Europe/Paris:20260625T150000
SUMMARY:PASSION JAPON
CATEGORIE:Expositions, Visites et Découvertes
GEO:48.89379030000000;2.38619230000000
LOCATION:Quai de la Charente\, 75019 Paris 19e\, France
URL:https://www.fest.fr/e/2410860
UID:2410860-1@fest.fr
END:VEVENT
BEGIN:VEVENT
DTSTART;TZID=Europe/Paris:20260625T143000
DTEND;TZID=Europe/Paris:20260625T153000
SUMMARY:PASSION JAPON
CATEGORIE:Expositions, Visites et Découvertes
GEO:48.89379030000000;2.38619230000000
LOCATION:Quai de la Charente\, 75019 Paris 19e\, France
URL:https://www.fest.fr/e/2410860
UID:2410860-2@fest.fr
END:VEVENT
BEGIN:VEVENT
DTSTART;TZID=Europe/Paris:20260625T150000
DTEND;TZID=Europe/Paris:20260625T160000
SUMMARY:PASSION JAPON
CATEGORIE:Expositions, Visites et Découvertes
GEO:48.89379030000000;2.38619230000000
LOCATION:Quai de la Charente\, 75019 Paris 19e\, France
URL:https://www.fest.fr/e/2410860
UID:2410860-3@fest.fr
END:VEVENT
BEGIN:VEVENT
DTSTART;TZID=Europe/Paris:20260625T153000
DTEND;TZID=Europe/Paris:20260625T163000
SUMMARY:PASSION JAPON
CATEGORIE:Expositions, Visites et Découvertes
GEO:48.89379030000000;2.38619230000000
LOCATION:Quai de la Charente\, 75019 Paris 19e\, France
URL:https://www.fest.fr/e/2410860
UID:2410860-4@fest.fr
END:VEVENT
BEGIN:VEVENT
DTSTART;TZID=Europe/Paris:20260625T160000
DTEND;TZID=Europe/Paris:20260625T170000
SUMMARY:PASSION JAPON
CATEGORIE:Expositions, Visites et Découvertes
GEO:48.89379030000000;2.38619230000000
LOCATION:Quai de la Charente\, 75019 Paris 19e\, France
URL:https://www.fest.fr/e/2410860
UID:2410860-5@fest.fr
END:VEVENT
BEGIN:VEVENT
DTSTART;TZID=Europe/Paris:20260625T163000
DTEND;TZID=Europe/Paris:20260625T173000
SUMMARY:PASSION JAPON
CATEGORIE:Expositions, Visites et Découvertes
GEO:48.89379030000000;2.38619230000000
LOCATION:Quai de la Charente\, 75019 Paris 19e\, France
URL:https://www.fest.fr/e/2410860
UID:2410860-6@fest.fr
END:VEVENT
BEGIN:VEVENT
DTSTART;TZID=Europe/Paris:20260625T170000
DTEND;TZID=Europe/Paris:20260625T180000
SUMMARY:PASSION JAPON
CATEGORIE:Expositions, Visites et Découvertes
GEO:48.89379030000000;2.38619230000000
LOCATION:Quai de la Charente\, 75019 Paris 19e\, France
URL:https://www.fest.fr/e/2410860
UID:2410860-7@fest.fr
END:VEVENT
BEGIN:VEVENT
DTSTART;TZID=Europe/Paris:20260625T173000
DTEND;TZID=Europe/Paris:20260625T183000
SUMMARY:PASSION JAPON
CATEGORIE:Expositions, Visites et Découvertes
GEO:48.89379030000000;2.38619230000000
LOCATION:Quai de la Charente\, 75019 Paris 19e\, France
URL:https://www.fest.fr/e/2410860
UID:2410860-8@fest.fr
END:VEVENT
BEGIN:VEVENT
DTSTART;TZID=Europe/Paris:20260625T180000
DTEND;TZID=Europe/Paris:20260625T190000
SUMMARY:PASSION JAPON
CATEGORIE:Expositions, Visites et Découvertes
GEO:48.89379030000000;2.38619230000000
LOCATION:Quai de la Charente\, 75019 Paris 19e\, France
URL:https://www.fest.fr/e/2410860
UID:2410860-9@fest.fr
END:VEVENT
BEGIN:VEVENT
DTSTART;TZID=Europe/Paris:20260625T183000
DTEND;TZID=Europe/Paris:20260625T193000
SUMMARY:PASSION JAPON
CATEGORIE:Expositions, Visites et Découvertes
GEO:48.89379030000000;2.38619230000000
LOCATION:Quai de la Charente\, 75019 Paris 19e\, France
URL:https://www.fest.fr/e/2410860
UID:2410860-10@fest.fr
END:VEVENT
BEGIN:VEVENT
DTSTART;TZID=Europe/Paris:20260625T190000
DTEND;TZID=Europe/Paris:20260625T200000
SUMMARY:PASSION JAPON
CATEGORIE:Expositions, Visites et Découvertes
GEO:48.89379030000000;2.38619230000000
LOCATION:Quai de la Charente\, 75019 Paris 19e\, France
URL:https://www.fest.fr/e/2410860
UID:2410860-11@fest.fr
END:VEVENT
END:VCALENDAR
