BEGIN:VCALENDAR
CALSCALE:GREGORIAN
VERSION:2.0
METHOD:PUBLISH 
X-WR-CALNAME:
BEGIN:VEVENT
DTSTART;TZID=Europe/Paris:20260610T203000
DTEND;TZID=Europe/Paris:20260610T213000
SUMMARY:FRÉDÉRIC BOBIN - Dans le cadre du festival LE HAILLAN CHANTÉ
CATEGORIE:Concerts et musique
GEO:44.86882260000000;-0.71922060000000
LOCATION:13 rue Georges Clemenceau\, 33185 Le Haillan\, France
URL:https://www.fest.fr/e/2410526
UID:2410526-1@fest.fr
END:VEVENT
END:VCALENDAR
