BEGIN:VCALENDAR
CALSCALE:GREGORIAN
VERSION:2.0
METHOD:PUBLISH 
X-WR-CALNAME:
BEGIN:VEVENT
DTSTART;TZID=Europe/Paris:20260530T203000
DTEND;TZID=Europe/Paris:20260530T213000
SUMMARY:NORA HAMZAWI
CATEGORIE:Spectacles et Théâtre
GEO:50.62909800000000;3.05851150000000
LOCATION:Place Sebastopol\, 59000 Lille\, France
URL:https://www.fest.fr/e/2410250
UID:2410250-1@fest.fr
END:VEVENT
END:VCALENDAR
