BEGIN:VCALENDAR
CALSCALE:GREGORIAN
VERSION:2.0
METHOD:PUBLISH 
X-WR-CALNAME:
BEGIN:VEVENT
DTSTART;TZID=Europe/Paris:20260529T203000
DTEND;TZID=Europe/Paris:20260529T213000
SUMMARY:DEBRANCHE - Hommage FRANCE GALL &amp; MICHEL BERGER
CATEGORIE:Concerts et musique
GEO:43.11752540000000;5.80366040000000
LOCATION:80 RUE RAOUL HENRY\, 83110 Sanary-sur-Mer\, France
URL:https://www.fest.fr/e/2410206
UID:2410206-1@fest.fr
END:VEVENT
END:VCALENDAR
