BEGIN:VCALENDAR
CALSCALE:GREGORIAN
VERSION:2.0
METHOD:PUBLISH 
X-WR-CALNAME:
BEGIN:VEVENT
DTSTART;TZID=Europe/Paris:20260529T200000
DTEND;TZID=Europe/Paris:20260529T210000
SUMMARY:VIRGILE MARTINI
CATEGORIE:Concerts et musique
GEO:45.75830750000000;4.84086250000000
LOCATION:20, Quai Augagneur\, 69003 Lyon 3e\, France
URL:https://www.fest.fr/e/2410198
UID:2410198-1@fest.fr
END:VEVENT
END:VCALENDAR
