BEGIN:VCALENDAR
CALSCALE:GREGORIAN
VERSION:2.0
METHOD:PUBLISH 
X-WR-CALNAME:
BEGIN:VEVENT
DTSTART;TZID=Europe/Paris:20260508T100000
DTEND;TZID=Europe/Paris:20260508T110000
SUMMARY:PASSION JAPON
CATEGORIE:Expositions, Visites et Découvertes
GEO:48.89379030000000;2.38619230000000
LOCATION:Quai de la Charente\, 75019 Paris 19e\, France
URL:https://www.fest.fr/e/2409621
UID:2409621-1@fest.fr
END:VEVENT
BEGIN:VEVENT
DTSTART;TZID=Europe/Paris:20260508T103000
DTEND;TZID=Europe/Paris:20260508T113000
SUMMARY:PASSION JAPON
CATEGORIE:Expositions, Visites et Découvertes
GEO:48.89379030000000;2.38619230000000
LOCATION:Quai de la Charente\, 75019 Paris 19e\, France
URL:https://www.fest.fr/e/2409621
UID:2409621-2@fest.fr
END:VEVENT
BEGIN:VEVENT
DTSTART;TZID=Europe/Paris:20260508T110000
DTEND;TZID=Europe/Paris:20260508T120000
SUMMARY:PASSION JAPON
CATEGORIE:Expositions, Visites et Découvertes
GEO:48.89379030000000;2.38619230000000
LOCATION:Quai de la Charente\, 75019 Paris 19e\, France
URL:https://www.fest.fr/e/2409621
UID:2409621-3@fest.fr
END:VEVENT
BEGIN:VEVENT
DTSTART;TZID=Europe/Paris:20260508T113000
DTEND;TZID=Europe/Paris:20260508T123000
SUMMARY:PASSION JAPON
CATEGORIE:Expositions, Visites et Découvertes
GEO:48.89379030000000;2.38619230000000
LOCATION:Quai de la Charente\, 75019 Paris 19e\, France
URL:https://www.fest.fr/e/2409621
UID:2409621-4@fest.fr
END:VEVENT
BEGIN:VEVENT
DTSTART;TZID=Europe/Paris:20260508T120000
DTEND;TZID=Europe/Paris:20260508T130000
SUMMARY:PASSION JAPON
CATEGORIE:Expositions, Visites et Découvertes
GEO:48.89379030000000;2.38619230000000
LOCATION:Quai de la Charente\, 75019 Paris 19e\, France
URL:https://www.fest.fr/e/2409621
UID:2409621-5@fest.fr
END:VEVENT
BEGIN:VEVENT
DTSTART;TZID=Europe/Paris:20260508T123000
DTEND;TZID=Europe/Paris:20260508T133000
SUMMARY:PASSION JAPON
CATEGORIE:Expositions, Visites et Découvertes
GEO:48.89379030000000;2.38619230000000
LOCATION:Quai de la Charente\, 75019 Paris 19e\, France
URL:https://www.fest.fr/e/2409621
UID:2409621-6@fest.fr
END:VEVENT
BEGIN:VEVENT
DTSTART;TZID=Europe/Paris:20260508T130000
DTEND;TZID=Europe/Paris:20260508T140000
SUMMARY:PASSION JAPON
CATEGORIE:Expositions, Visites et Découvertes
GEO:48.89379030000000;2.38619230000000
LOCATION:Quai de la Charente\, 75019 Paris 19e\, France
URL:https://www.fest.fr/e/2409621
UID:2409621-7@fest.fr
END:VEVENT
BEGIN:VEVENT
DTSTART;TZID=Europe/Paris:20260508T133000
DTEND;TZID=Europe/Paris:20260508T143000
SUMMARY:PASSION JAPON
CATEGORIE:Expositions, Visites et Découvertes
GEO:48.89379030000000;2.38619230000000
LOCATION:Quai de la Charente\, 75019 Paris 19e\, France
URL:https://www.fest.fr/e/2409621
UID:2409621-8@fest.fr
END:VEVENT
BEGIN:VEVENT
DTSTART;TZID=Europe/Paris:20260508T140000
DTEND;TZID=Europe/Paris:20260508T150000
SUMMARY:PASSION JAPON
CATEGORIE:Expositions, Visites et Découvertes
GEO:48.89379030000000;2.38619230000000
LOCATION:Quai de la Charente\, 75019 Paris 19e\, France
URL:https://www.fest.fr/e/2409621
UID:2409621-9@fest.fr
END:VEVENT
BEGIN:VEVENT
DTSTART;TZID=Europe/Paris:20260508T143000
DTEND;TZID=Europe/Paris:20260508T153000
SUMMARY:PASSION JAPON
CATEGORIE:Expositions, Visites et Découvertes
GEO:48.89379030000000;2.38619230000000
LOCATION:Quai de la Charente\, 75019 Paris 19e\, France
URL:https://www.fest.fr/e/2409621
UID:2409621-10@fest.fr
END:VEVENT
BEGIN:VEVENT
DTSTART;TZID=Europe/Paris:20260508T150000
DTEND;TZID=Europe/Paris:20260508T160000
SUMMARY:PASSION JAPON
CATEGORIE:Expositions, Visites et Découvertes
GEO:48.89379030000000;2.38619230000000
LOCATION:Quai de la Charente\, 75019 Paris 19e\, France
URL:https://www.fest.fr/e/2409621
UID:2409621-11@fest.fr
END:VEVENT
BEGIN:VEVENT
DTSTART;TZID=Europe/Paris:20260508T153000
DTEND;TZID=Europe/Paris:20260508T163000
SUMMARY:PASSION JAPON
CATEGORIE:Expositions, Visites et Découvertes
GEO:48.89379030000000;2.38619230000000
LOCATION:Quai de la Charente\, 75019 Paris 19e\, France
URL:https://www.fest.fr/e/2409621
UID:2409621-12@fest.fr
END:VEVENT
BEGIN:VEVENT
DTSTART;TZID=Europe/Paris:20260508T160000
DTEND;TZID=Europe/Paris:20260508T170000
SUMMARY:PASSION JAPON
CATEGORIE:Expositions, Visites et Découvertes
GEO:48.89379030000000;2.38619230000000
LOCATION:Quai de la Charente\, 75019 Paris 19e\, France
URL:https://www.fest.fr/e/2409621
UID:2409621-13@fest.fr
END:VEVENT
BEGIN:VEVENT
DTSTART;TZID=Europe/Paris:20260508T163000
DTEND;TZID=Europe/Paris:20260508T173000
SUMMARY:PASSION JAPON
CATEGORIE:Expositions, Visites et Découvertes
GEO:48.89379030000000;2.38619230000000
LOCATION:Quai de la Charente\, 75019 Paris 19e\, France
URL:https://www.fest.fr/e/2409621
UID:2409621-14@fest.fr
END:VEVENT
BEGIN:VEVENT
DTSTART;TZID=Europe/Paris:20260508T170000
DTEND;TZID=Europe/Paris:20260508T180000
SUMMARY:PASSION JAPON
CATEGORIE:Expositions, Visites et Découvertes
GEO:48.89379030000000;2.38619230000000
LOCATION:Quai de la Charente\, 75019 Paris 19e\, France
URL:https://www.fest.fr/e/2409621
UID:2409621-15@fest.fr
END:VEVENT
BEGIN:VEVENT
DTSTART;TZID=Europe/Paris:20260508T173000
DTEND;TZID=Europe/Paris:20260508T183000
SUMMARY:PASSION JAPON
CATEGORIE:Expositions, Visites et Découvertes
GEO:48.89379030000000;2.38619230000000
LOCATION:Quai de la Charente\, 75019 Paris 19e\, France
URL:https://www.fest.fr/e/2409621
UID:2409621-16@fest.fr
END:VEVENT
BEGIN:VEVENT
DTSTART;TZID=Europe/Paris:20260508T180000
DTEND;TZID=Europe/Paris:20260508T190000
SUMMARY:PASSION JAPON
CATEGORIE:Expositions, Visites et Découvertes
GEO:48.89379030000000;2.38619230000000
LOCATION:Quai de la Charente\, 75019 Paris 19e\, France
URL:https://www.fest.fr/e/2409621
UID:2409621-17@fest.fr
END:VEVENT
BEGIN:VEVENT
DTSTART;TZID=Europe/Paris:20260508T183000
DTEND;TZID=Europe/Paris:20260508T193000
SUMMARY:PASSION JAPON
CATEGORIE:Expositions, Visites et Découvertes
GEO:48.89379030000000;2.38619230000000
LOCATION:Quai de la Charente\, 75019 Paris 19e\, France
URL:https://www.fest.fr/e/2409621
UID:2409621-18@fest.fr
END:VEVENT
BEGIN:VEVENT
DTSTART;TZID=Europe/Paris:20260508T190000
DTEND;TZID=Europe/Paris:20260508T200000
SUMMARY:PASSION JAPON
CATEGORIE:Expositions, Visites et Découvertes
GEO:48.89379030000000;2.38619230000000
LOCATION:Quai de la Charente\, 75019 Paris 19e\, France
URL:https://www.fest.fr/e/2409621
UID:2409621-19@fest.fr
END:VEVENT
BEGIN:VEVENT
DTSTART;TZID=Europe/Paris:20260508T193000
DTEND;TZID=Europe/Paris:20260508T203000
SUMMARY:PASSION JAPON
CATEGORIE:Expositions, Visites et Découvertes
GEO:48.89379030000000;2.38619230000000
LOCATION:Quai de la Charente\, 75019 Paris 19e\, France
URL:https://www.fest.fr/e/2409621
UID:2409621-20@fest.fr
END:VEVENT
BEGIN:VEVENT
DTSTART;TZID=Europe/Paris:20260508T200000
DTEND;TZID=Europe/Paris:20260508T210000
SUMMARY:PASSION JAPON
CATEGORIE:Expositions, Visites et Découvertes
GEO:48.89379030000000;2.38619230000000
LOCATION:Quai de la Charente\, 75019 Paris 19e\, France
URL:https://www.fest.fr/e/2409621
UID:2409621-21@fest.fr
END:VEVENT
END:VCALENDAR
