BEGIN:VCALENDAR
CALSCALE:GREGORIAN
VERSION:2.0
METHOD:PUBLISH 
X-WR-CALNAME:
BEGIN:VEVENT
DTSTART;TZID=Europe/Paris:20260506T180000
DTEND;TZID=Europe/Paris:20260506T190000
SUMMARY:DJAMIL LE SHLAG
CATEGORIE:Spectacles et Théâtre
GEO:43.29446310000000;5.38330140000000
LOCATION:39 Cours Julien\, 13006 Marseille 6e\, France
URL:https://www.fest.fr/e/2409542
UID:2409542-1@fest.fr
END:VEVENT
END:VCALENDAR
