BEGIN:VCALENDAR
CALSCALE:GREGORIAN
VERSION:2.0
METHOD:PUBLISH 
X-WR-CALNAME:
BEGIN:VEVENT
DTSTART;TZID=Europe/Paris:20260502T203000
DTEND;TZID=Europe/Paris:20260502T213000
SUMMARY:LA FOLLE HISTOIRE DU COUPLE
CATEGORIE:Spectacles et Théâtre
GEO:48.53052920000000;7.70913780000000
LOCATION:11, allee Francois Mitterrand\, 67400 Illkirch-Graffenstaden\, France
URL:https://www.fest.fr/e/2409445
UID:2409445-1@fest.fr
END:VEVENT
END:VCALENDAR
