BEGIN:VCALENDAR
CALSCALE:GREGORIAN
VERSION:2.0
METHOD:PUBLISH 
X-WR-CALNAME:
BEGIN:VEVENT
DTSTART;TZID=Europe/Paris:20260416T200000
DTEND;TZID=Europe/Paris:20260416T210000
SUMMARY:MONTE-CRISTO, LE SPECTACLE MUSICAL
CATEGORIE:Spectacles et Théâtre
GEO:48.87405950000000;2.34473400000000
LOCATION:32 rue Richer\, 75009 Paris 9e\, France
URL:https://www.fest.fr/e/2408539
UID:2408539-1@fest.fr
END:VEVENT
END:VCALENDAR
