BEGIN:VCALENDAR
CALSCALE:GREGORIAN
VERSION:2.0
METHOD:PUBLISH 
X-WR-CALNAME:
BEGIN:VEVENT
DTSTART;TZID=Europe/Paris:20260414T203000
DTEND;TZID=Europe/Paris:20260414T213000
SUMMARY:Kessel, la liberté à tout prix
CATEGORIE:Spectacles et Théâtre
GEO:42.70458200000000;3.00835100000000
LOCATION:3 rue joseph lafon\, 66140 Canet-en-Roussillon\, France
URL:https://www.fest.fr/e/2408453
UID:2408453-1@fest.fr
END:VEVENT
END:VCALENDAR
