BEGIN:VCALENDAR
CALSCALE:GREGORIAN
VERSION:2.0
METHOD:PUBLISH 
X-WR-CALNAME:
BEGIN:VEVENT
DTSTART;TZID=Europe/Paris:20260412T160000
DTEND;TZID=Europe/Paris:20260412T170000
SUMMARY:NARUTO SHIPPUDEN SYMPHONIC EXPERIENCE
CATEGORIE:Spectacles et Théâtre
GEO:47.87163680000000;1.91280730000000
LOCATION:1, rue du President Schuman\, 45100 Orléans\, France
URL:https://www.fest.fr/e/2408376
UID:2408376-1@fest.fr
END:VEVENT
END:VCALENDAR
