BEGIN:VCALENDAR
CALSCALE:GREGORIAN
VERSION:2.0
METHOD:PUBLISH 
X-WR-CALNAME:
BEGIN:VEVENT
DTSTART;TZID=Europe/Paris:20260412T110000
DTEND;TZID=Europe/Paris:20260412T120000
SUMMARY:LE ROI ET L'OISEAU
CATEGORIE:Concerts et Musique
GEO:48.82382300000000;2.23329200000000
LOCATION:Ile Seguin\, 92100 Boulogne-Billancourt\, France
URL:https://www.fest.fr/e/2408345
UID:2408345-1@fest.fr
END:VEVENT
END:VCALENDAR
