BEGIN:VCALENDAR
CALSCALE:GREGORIAN
VERSION:2.0
METHOD:PUBLISH 
X-WR-CALNAME:
BEGIN:VEVENT
DTSTART;TZID=Europe/Paris:20260530T120000
DTEND;TZID=Europe/Paris:20260530T130000
SUMMARY:Repas de l'alose
CATEGORIE:Fêtes et Animations
GEO:44.77305414564560;-0.69943974349976
LOCATION:Salle de Rink Hockey gazinet près de la gare\, 62 avenue de verdun\, 33610 Cestas\, France
URL:https://www.fest.fr/e/2407879
UID:2407879-1@fest.fr
END:VEVENT
END:VCALENDAR
