BEGIN:VCALENDAR
CALSCALE:GREGORIAN
VERSION:2.0
METHOD:PUBLISH 
X-WR-CALNAME:
BEGIN:VEVENT
DTSTART;TZID=Europe/Paris:20260606T103000
DTEND;TZID=Europe/Paris:20260606T113000
SUMMARY:Jeu : Cluedo géant dans le parc de Bizy
CATEGORIE:Jeux et Concours
GEO:49.08328700000000;1.46547400000000
LOCATION:Château de Bizy\, Av Mal de Lattre de Tassigny\, 27200 Vernon\, France
URL:https://www.fest.fr/e/2407655
UID:2407655-1@fest.fr
END:VEVENT
BEGIN:VEVENT
DTSTART;TZID=Europe/Paris:20260606T140000
DTEND;TZID=Europe/Paris:20260606T150000
SUMMARY:Jeu : Cluedo géant dans le parc de Bizy
CATEGORIE:Jeux et Concours
GEO:49.08328700000000;1.46547400000000
LOCATION:Château de Bizy\, Av Mal de Lattre de Tassigny\, 27200 Vernon\, France
URL:https://www.fest.fr/e/2407655
UID:2407655-2@fest.fr
END:VEVENT
BEGIN:VEVENT
DTSTART;TZID=Europe/Paris:20260607T103000
DTEND;TZID=Europe/Paris:20260607T113000
SUMMARY:Jeu : Cluedo géant dans le parc de Bizy
CATEGORIE:Jeux et Concours
GEO:49.08328700000000;1.46547400000000
LOCATION:Château de Bizy\, Av Mal de Lattre de Tassigny\, 27200 Vernon\, France
URL:https://www.fest.fr/e/2407655
UID:2407655-3@fest.fr
END:VEVENT
BEGIN:VEVENT
DTSTART;TZID=Europe/Paris:20260607T140000
DTEND;TZID=Europe/Paris:20260607T150000
SUMMARY:Jeu : Cluedo géant dans le parc de Bizy
CATEGORIE:Jeux et Concours
GEO:49.08328700000000;1.46547400000000
LOCATION:Château de Bizy\, Av Mal de Lattre de Tassigny\, 27200 Vernon\, France
URL:https://www.fest.fr/e/2407655
UID:2407655-4@fest.fr
END:VEVENT
END:VCALENDAR
