BEGIN:VCALENDAR
CALSCALE:GREGORIAN
VERSION:2.0
METHOD:PUBLISH 
X-WR-CALNAME:
BEGIN:VEVENT
DTSTART;TZID=Europe/Paris:20260523T180000
DTEND;TZID=Europe/Paris:20260523T190000
SUMMARY:Visites avec l’artiste Emmanuel Louisgrand
CATEGORIE:Expositions, Visites et Découvertes
GEO:45.46947700000000;4.37194600000000
LOCATION:Musée d'art moderne et contemporain de Saint-Étienne Métropole\, rue Fernand Léger 42006 Saint-Étienne\, 42270 Saint-Priest-en-Jarez\, France
URL:https://www.fest.fr/e/2407313
UID:2407313-1@fest.fr
END:VEVENT
BEGIN:VEVENT
DTSTART;TZID=Europe/Paris:20260523T183000
DTEND;TZID=Europe/Paris:20260523T193000
SUMMARY:Visites avec l’artiste Emmanuel Louisgrand
CATEGORIE:Expositions, Visites et Découvertes
GEO:45.46947700000000;4.37194600000000
LOCATION:Musée d'art moderne et contemporain de Saint-Étienne Métropole\, rue Fernand Léger 42006 Saint-Étienne\, 42270 Saint-Priest-en-Jarez\, France
URL:https://www.fest.fr/e/2407313
UID:2407313-2@fest.fr
END:VEVENT
END:VCALENDAR
