BEGIN:VCALENDAR
CALSCALE:GREGORIAN
VERSION:2.0
METHOD:PUBLISH 
X-WR-CALNAME:
BEGIN:VEVENT
DTSTART;TZID=Europe/Paris:20260411T150000
DTEND;TZID=Europe/Paris:20260411T160000
SUMMARY:Rencontre avec Christelle Ferrand
CATEGORIE:Littérature
GEO:47.27546000000000;-2.43043000000000
LOCATION:Micro-Folie\, Salle Marcel Baudry, 8 rue Maréchal Joffre\, 44510 Le Pouliguen\, France
URL:https://www.fest.fr/e/2407151
UID:2407151-1@fest.fr
END:VEVENT
END:VCALENDAR
