BEGIN:VCALENDAR
CALSCALE:GREGORIAN
VERSION:2.0
METHOD:PUBLISH 
X-WR-CALNAME:
BEGIN:VEVENT
DTSTART;TZID=Europe/Paris:20271105T200000
DTEND;TZID=Europe/Paris:20271105T210000
SUMMARY:The Rise - Tournée
CATEGORIE:Spectacles et théâtre
GEO:50.63269752836700;3.07810884253500
LOCATION:Zénith Arena de Lille\, 1, Bd des Cités Unies\, 59000 Lille\, France
URL:https://www.fest.fr/e/2406808
UID:2406808-1@fest.fr
END:VEVENT
BEGIN:VEVENT
DTSTART;TZID=Europe/Paris:20271106T150000
DTEND;TZID=Europe/Paris:20271106T160000
SUMMARY:The Rise - Tournée
CATEGORIE:Spectacles et théâtre
GEO:50.63269752836700;3.07810884253500
LOCATION:Zénith Arena de Lille\, 1, Bd des Cités Unies\, 59000 Lille\, France
URL:https://www.fest.fr/e/2406808
UID:2406808-2@fest.fr
END:VEVENT
END:VCALENDAR
