BEGIN:VCALENDAR
CALSCALE:GREGORIAN
VERSION:2.0
METHOD:PUBLISH 
X-WR-CALNAME:
BEGIN:VEVENT
DTSTART;TZID=Europe/Paris:20260502T190000
DTEND;TZID=Europe/Paris:20260502T200000
SUMMARY:Pierre Le Prince - L' Emotif
CATEGORIE:Spectacles et théâtre
GEO:48.87530954452900;2.34529274654000
LOCATION:Le Lieu\, 41, rue de Trévise\, 75009 Paris 9e\, France
URL:https://www.fest.fr/e/2406712
UID:2406712-1@fest.fr
END:VEVENT
BEGIN:VEVENT
DTSTART;TZID=Europe/Paris:20260516T190000
DTEND;TZID=Europe/Paris:20260516T200000
SUMMARY:Pierre Le Prince - L' Emotif
CATEGORIE:Spectacles et théâtre
GEO:48.87530954452900;2.34529274654000
LOCATION:Le Lieu\, 41, rue de Trévise\, 75009 Paris 9e\, France
URL:https://www.fest.fr/e/2406712
UID:2406712-2@fest.fr
END:VEVENT
BEGIN:VEVENT
DTSTART;TZID=Europe/Paris:20260530T190000
DTEND;TZID=Europe/Paris:20260530T200000
SUMMARY:Pierre Le Prince - L' Emotif
CATEGORIE:Spectacles et théâtre
GEO:48.87530954452900;2.34529274654000
LOCATION:Le Lieu\, 41, rue de Trévise\, 75009 Paris 9e\, France
URL:https://www.fest.fr/e/2406712
UID:2406712-3@fest.fr
END:VEVENT
BEGIN:VEVENT
DTSTART;TZID=Europe/Paris:20260613T190000
DTEND;TZID=Europe/Paris:20260613T200000
SUMMARY:Pierre Le Prince - L' Emotif
CATEGORIE:Spectacles et théâtre
GEO:48.87530954452900;2.34529274654000
LOCATION:Le Lieu\, 41, rue de Trévise\, 75009 Paris 9e\, France
URL:https://www.fest.fr/e/2406712
UID:2406712-4@fest.fr
END:VEVENT
BEGIN:VEVENT
DTSTART;TZID=Europe/Paris:20260627T190000
DTEND;TZID=Europe/Paris:20260627T200000
SUMMARY:Pierre Le Prince - L' Emotif
CATEGORIE:Spectacles et théâtre
GEO:48.87530954452900;2.34529274654000
LOCATION:Le Lieu\, 41, rue de Trévise\, 75009 Paris 9e\, France
URL:https://www.fest.fr/e/2406712
UID:2406712-5@fest.fr
END:VEVENT
END:VCALENDAR
