BEGIN:VCALENDAR
CALSCALE:GREGORIAN
VERSION:2.0
METHOD:PUBLISH 
X-WR-CALNAME:
BEGIN:VEVENT
DTSTART;TZID=Europe/Paris:20260522T213000
DTEND;TZID=Europe/Paris:20260522T223000
SUMMARY:Bassem Hamraoui - Bambino
CATEGORIE:Spectacles et théâtre
LOCATION:Caméo Comédie Club\, 24 rue du Palais\, 57000 Metz\, France
URL:https://www.fest.fr/e/2406701
UID:2406701-1@fest.fr
END:VEVENT
END:VCALENDAR
