BEGIN:VCALENDAR
CALSCALE:GREGORIAN
VERSION:2.0
METHOD:PUBLISH 
X-WR-CALNAME:
BEGIN:VEVENT
DTSTART;TZID=Europe/Paris:20260511T200000
DTEND;TZID=Europe/Paris:20260511T210000
SUMMARY:Hors-service / Rencontre avec Jean Boiron-Lajous
CATEGORIE:Spectacles et Théâtre
GEO:43.58893900000000;1.44595000000000
LOCATION:Le Cratère\, 95 grande rue Saint-Michel\, 31400 Toulouse\, France
URL:https://www.fest.fr/e/2406551
UID:2406551-1@fest.fr
END:VEVENT
END:VCALENDAR
