BEGIN:VCALENDAR
CALSCALE:GREGORIAN
VERSION:2.0
METHOD:PUBLISH 
X-WR-CALNAME:
BEGIN:VEVENT
DTSTART;TZID=Europe/Paris:20260428T140000
DTEND;TZID=Europe/Paris:20260428T150000
SUMMARY:InnovAction : Les nouvelles formes d’interaction entre céréaliers et éleveurs gr
CATEGORIE:Conférences, Forums et Débats
GEO:43.72577400000000;0.37752900000000
LOCATION:Saint-Jean-Poutge (31)\, Saint-Jean-Poutge 31190\, 32190 Saint-Jean-Poutge\, France
URL:https://www.fest.fr/e/2406487
UID:2406487-1@fest.fr
END:VEVENT
END:VCALENDAR
