BEGIN:VCALENDAR
CALSCALE:GREGORIAN
VERSION:2.0
METHOD:PUBLISH 
X-WR-CALNAME:
BEGIN:VEVENT
DTSTART;TZID=Europe/Paris:20260415T203000
DTEND;TZID=Europe/Paris:20260415T213000
SUMMARY:Regards sur l'écologie
CATEGORIE:Littérature
GEO:43.57698100000000;1.46015300000000
LOCATION:Café culturel « L’Astronef »\, 3 place des Avions\, 31400 Toulouse\, France
URL:https://www.fest.fr/e/2406486
UID:2406486-1@fest.fr
END:VEVENT
END:VCALENDAR
