BEGIN:VCALENDAR
CALSCALE:GREGORIAN
VERSION:2.0
METHOD:PUBLISH 
X-WR-CALNAME:
BEGIN:VEVENT
DTSTART;TZID=Europe/Paris:20260426T160000
DTEND;TZID=Europe/Paris:20260426T170000
SUMMARY:Inauguration Parcelle seniors / Fête du printemps
CATEGORIE:Social et solidaire
GEO:47.20339800000000;-1.61270300000000
LOCATION:Jardins familiaux du Bois de la Musse\, Rue du Bois de la Musse\, 44100 Nantes\, France
URL:https://www.fest.fr/e/2406372
UID:2406372-1@fest.fr
END:VEVENT
END:VCALENDAR
