BEGIN:VCALENDAR
CALSCALE:GREGORIAN
VERSION:2.0
METHOD:PUBLISH 
X-WR-CALNAME:
BEGIN:VEVENT
DTSTART;TZID=Europe/Paris:20260501T000000
DTEND;TZID=Europe/Paris:20260501T010000
SUMMARY:Mai à Vélo 2026
CATEGORIE:Sports
GEO:45.90720000000000;6.69674000000000
LOCATION:Etablissement Mont Blanc SNCF\, 240 Rue du Stade France\, 74170 Saint-Gervais-les-Bains\, France
URL:https://www.fest.fr/e/2405869
UID:2405869-1@fest.fr
END:VEVENT
BEGIN:VEVENT
DTSTART;TZID=Europe/Paris:20260501T020000
DTEND;TZID=Europe/Paris:20260501T030000
SUMMARY:Mai à Vélo 2026
CATEGORIE:Sports
GEO:45.90720000000000;6.69674000000000
LOCATION:Etablissement Mont Blanc SNCF\, 240 Rue du Stade France\, 74170 Saint-Gervais-les-Bains\, France
URL:https://www.fest.fr/e/2405869
UID:2405869-2@fest.fr
END:VEVENT
BEGIN:VEVENT
DTSTART;TZID=Europe/Paris:20260502T020000
DTEND;TZID=Europe/Paris:20260502T030000
SUMMARY:Mai à Vélo 2026
CATEGORIE:Sports
GEO:45.90720000000000;6.69674000000000
LOCATION:Etablissement Mont Blanc SNCF\, 240 Rue du Stade France\, 74170 Saint-Gervais-les-Bains\, France
URL:https://www.fest.fr/e/2405869
UID:2405869-3@fest.fr
END:VEVENT
BEGIN:VEVENT
DTSTART;TZID=Europe/Paris:20260503T020000
DTEND;TZID=Europe/Paris:20260503T030000
SUMMARY:Mai à Vélo 2026
CATEGORIE:Sports
GEO:45.90720000000000;6.69674000000000
LOCATION:Etablissement Mont Blanc SNCF\, 240 Rue du Stade France\, 74170 Saint-Gervais-les-Bains\, France
URL:https://www.fest.fr/e/2405869
UID:2405869-4@fest.fr
END:VEVENT
BEGIN:VEVENT
DTSTART;TZID=Europe/Paris:20260504T020000
DTEND;TZID=Europe/Paris:20260504T030000
SUMMARY:Mai à Vélo 2026
CATEGORIE:Sports
GEO:45.90720000000000;6.69674000000000
LOCATION:Etablissement Mont Blanc SNCF\, 240 Rue du Stade France\, 74170 Saint-Gervais-les-Bains\, France
URL:https://www.fest.fr/e/2405869
UID:2405869-5@fest.fr
END:VEVENT
BEGIN:VEVENT
DTSTART;TZID=Europe/Paris:20260505T020000
DTEND;TZID=Europe/Paris:20260505T030000
SUMMARY:Mai à Vélo 2026
CATEGORIE:Sports
GEO:45.90720000000000;6.69674000000000
LOCATION:Etablissement Mont Blanc SNCF\, 240 Rue du Stade France\, 74170 Saint-Gervais-les-Bains\, France
URL:https://www.fest.fr/e/2405869
UID:2405869-6@fest.fr
END:VEVENT
BEGIN:VEVENT
DTSTART;TZID=Europe/Paris:20260506T020000
DTEND;TZID=Europe/Paris:20260506T030000
SUMMARY:Mai à Vélo 2026
CATEGORIE:Sports
GEO:45.90720000000000;6.69674000000000
LOCATION:Etablissement Mont Blanc SNCF\, 240 Rue du Stade France\, 74170 Saint-Gervais-les-Bains\, France
URL:https://www.fest.fr/e/2405869
UID:2405869-7@fest.fr
END:VEVENT
BEGIN:VEVENT
DTSTART;TZID=Europe/Paris:20260507T020000
DTEND;TZID=Europe/Paris:20260507T030000
SUMMARY:Mai à Vélo 2026
CATEGORIE:Sports
GEO:45.90720000000000;6.69674000000000
LOCATION:Etablissement Mont Blanc SNCF\, 240 Rue du Stade France\, 74170 Saint-Gervais-les-Bains\, France
URL:https://www.fest.fr/e/2405869
UID:2405869-8@fest.fr
END:VEVENT
BEGIN:VEVENT
DTSTART;TZID=Europe/Paris:20260508T020000
DTEND;TZID=Europe/Paris:20260508T030000
SUMMARY:Mai à Vélo 2026
CATEGORIE:Sports
GEO:45.90720000000000;6.69674000000000
LOCATION:Etablissement Mont Blanc SNCF\, 240 Rue du Stade France\, 74170 Saint-Gervais-les-Bains\, France
URL:https://www.fest.fr/e/2405869
UID:2405869-9@fest.fr
END:VEVENT
BEGIN:VEVENT
DTSTART;TZID=Europe/Paris:20260509T020000
DTEND;TZID=Europe/Paris:20260509T030000
SUMMARY:Mai à Vélo 2026
CATEGORIE:Sports
GEO:45.90720000000000;6.69674000000000
LOCATION:Etablissement Mont Blanc SNCF\, 240 Rue du Stade France\, 74170 Saint-Gervais-les-Bains\, France
URL:https://www.fest.fr/e/2405869
UID:2405869-10@fest.fr
END:VEVENT
BEGIN:VEVENT
DTSTART;TZID=Europe/Paris:20260510T020000
DTEND;TZID=Europe/Paris:20260510T030000
SUMMARY:Mai à Vélo 2026
CATEGORIE:Sports
GEO:45.90720000000000;6.69674000000000
LOCATION:Etablissement Mont Blanc SNCF\, 240 Rue du Stade France\, 74170 Saint-Gervais-les-Bains\, France
URL:https://www.fest.fr/e/2405869
UID:2405869-11@fest.fr
END:VEVENT
BEGIN:VEVENT
DTSTART;TZID=Europe/Paris:20260511T020000
DTEND;TZID=Europe/Paris:20260511T030000
SUMMARY:Mai à Vélo 2026
CATEGORIE:Sports
GEO:45.90720000000000;6.69674000000000
LOCATION:Etablissement Mont Blanc SNCF\, 240 Rue du Stade France\, 74170 Saint-Gervais-les-Bains\, France
URL:https://www.fest.fr/e/2405869
UID:2405869-12@fest.fr
END:VEVENT
BEGIN:VEVENT
DTSTART;TZID=Europe/Paris:20260512T020000
DTEND;TZID=Europe/Paris:20260512T030000
SUMMARY:Mai à Vélo 2026
CATEGORIE:Sports
GEO:45.90720000000000;6.69674000000000
LOCATION:Etablissement Mont Blanc SNCF\, 240 Rue du Stade France\, 74170 Saint-Gervais-les-Bains\, France
URL:https://www.fest.fr/e/2405869
UID:2405869-13@fest.fr
END:VEVENT
BEGIN:VEVENT
DTSTART;TZID=Europe/Paris:20260513T020000
DTEND;TZID=Europe/Paris:20260513T030000
SUMMARY:Mai à Vélo 2026
CATEGORIE:Sports
GEO:45.90720000000000;6.69674000000000
LOCATION:Etablissement Mont Blanc SNCF\, 240 Rue du Stade France\, 74170 Saint-Gervais-les-Bains\, France
URL:https://www.fest.fr/e/2405869
UID:2405869-14@fest.fr
END:VEVENT
BEGIN:VEVENT
DTSTART;TZID=Europe/Paris:20260514T020000
DTEND;TZID=Europe/Paris:20260514T030000
SUMMARY:Mai à Vélo 2026
CATEGORIE:Sports
GEO:45.90720000000000;6.69674000000000
LOCATION:Etablissement Mont Blanc SNCF\, 240 Rue du Stade France\, 74170 Saint-Gervais-les-Bains\, France
URL:https://www.fest.fr/e/2405869
UID:2405869-15@fest.fr
END:VEVENT
BEGIN:VEVENT
DTSTART;TZID=Europe/Paris:20260515T020000
DTEND;TZID=Europe/Paris:20260515T030000
SUMMARY:Mai à Vélo 2026
CATEGORIE:Sports
GEO:45.90720000000000;6.69674000000000
LOCATION:Etablissement Mont Blanc SNCF\, 240 Rue du Stade France\, 74170 Saint-Gervais-les-Bains\, France
URL:https://www.fest.fr/e/2405869
UID:2405869-16@fest.fr
END:VEVENT
BEGIN:VEVENT
DTSTART;TZID=Europe/Paris:20260516T020000
DTEND;TZID=Europe/Paris:20260516T030000
SUMMARY:Mai à Vélo 2026
CATEGORIE:Sports
GEO:45.90720000000000;6.69674000000000
LOCATION:Etablissement Mont Blanc SNCF\, 240 Rue du Stade France\, 74170 Saint-Gervais-les-Bains\, France
URL:https://www.fest.fr/e/2405869
UID:2405869-17@fest.fr
END:VEVENT
BEGIN:VEVENT
DTSTART;TZID=Europe/Paris:20260517T020000
DTEND;TZID=Europe/Paris:20260517T030000
SUMMARY:Mai à Vélo 2026
CATEGORIE:Sports
GEO:45.90720000000000;6.69674000000000
LOCATION:Etablissement Mont Blanc SNCF\, 240 Rue du Stade France\, 74170 Saint-Gervais-les-Bains\, France
URL:https://www.fest.fr/e/2405869
UID:2405869-18@fest.fr
END:VEVENT
BEGIN:VEVENT
DTSTART;TZID=Europe/Paris:20260518T020000
DTEND;TZID=Europe/Paris:20260518T030000
SUMMARY:Mai à Vélo 2026
CATEGORIE:Sports
GEO:45.90720000000000;6.69674000000000
LOCATION:Etablissement Mont Blanc SNCF\, 240 Rue du Stade France\, 74170 Saint-Gervais-les-Bains\, France
URL:https://www.fest.fr/e/2405869
UID:2405869-19@fest.fr
END:VEVENT
BEGIN:VEVENT
DTSTART;TZID=Europe/Paris:20260519T020000
DTEND;TZID=Europe/Paris:20260519T030000
SUMMARY:Mai à Vélo 2026
CATEGORIE:Sports
GEO:45.90720000000000;6.69674000000000
LOCATION:Etablissement Mont Blanc SNCF\, 240 Rue du Stade France\, 74170 Saint-Gervais-les-Bains\, France
URL:https://www.fest.fr/e/2405869
UID:2405869-20@fest.fr
END:VEVENT
BEGIN:VEVENT
DTSTART;TZID=Europe/Paris:20260520T020000
DTEND;TZID=Europe/Paris:20260520T030000
SUMMARY:Mai à Vélo 2026
CATEGORIE:Sports
GEO:45.90720000000000;6.69674000000000
LOCATION:Etablissement Mont Blanc SNCF\, 240 Rue du Stade France\, 74170 Saint-Gervais-les-Bains\, France
URL:https://www.fest.fr/e/2405869
UID:2405869-21@fest.fr
END:VEVENT
BEGIN:VEVENT
DTSTART;TZID=Europe/Paris:20260521T020000
DTEND;TZID=Europe/Paris:20260521T030000
SUMMARY:Mai à Vélo 2026
CATEGORIE:Sports
GEO:45.90720000000000;6.69674000000000
LOCATION:Etablissement Mont Blanc SNCF\, 240 Rue du Stade France\, 74170 Saint-Gervais-les-Bains\, France
URL:https://www.fest.fr/e/2405869
UID:2405869-22@fest.fr
END:VEVENT
BEGIN:VEVENT
DTSTART;TZID=Europe/Paris:20260522T020000
DTEND;TZID=Europe/Paris:20260522T030000
SUMMARY:Mai à Vélo 2026
CATEGORIE:Sports
GEO:45.90720000000000;6.69674000000000
LOCATION:Etablissement Mont Blanc SNCF\, 240 Rue du Stade France\, 74170 Saint-Gervais-les-Bains\, France
URL:https://www.fest.fr/e/2405869
UID:2405869-23@fest.fr
END:VEVENT
BEGIN:VEVENT
DTSTART;TZID=Europe/Paris:20260523T020000
DTEND;TZID=Europe/Paris:20260523T030000
SUMMARY:Mai à Vélo 2026
CATEGORIE:Sports
GEO:45.90720000000000;6.69674000000000
LOCATION:Etablissement Mont Blanc SNCF\, 240 Rue du Stade France\, 74170 Saint-Gervais-les-Bains\, France
URL:https://www.fest.fr/e/2405869
UID:2405869-24@fest.fr
END:VEVENT
BEGIN:VEVENT
DTSTART;TZID=Europe/Paris:20260524T020000
DTEND;TZID=Europe/Paris:20260524T030000
SUMMARY:Mai à Vélo 2026
CATEGORIE:Sports
GEO:45.90720000000000;6.69674000000000
LOCATION:Etablissement Mont Blanc SNCF\, 240 Rue du Stade France\, 74170 Saint-Gervais-les-Bains\, France
URL:https://www.fest.fr/e/2405869
UID:2405869-25@fest.fr
END:VEVENT
BEGIN:VEVENT
DTSTART;TZID=Europe/Paris:20260525T020000
DTEND;TZID=Europe/Paris:20260525T030000
SUMMARY:Mai à Vélo 2026
CATEGORIE:Sports
GEO:45.90720000000000;6.69674000000000
LOCATION:Etablissement Mont Blanc SNCF\, 240 Rue du Stade France\, 74170 Saint-Gervais-les-Bains\, France
URL:https://www.fest.fr/e/2405869
UID:2405869-26@fest.fr
END:VEVENT
BEGIN:VEVENT
DTSTART;TZID=Europe/Paris:20260526T020000
DTEND;TZID=Europe/Paris:20260526T030000
SUMMARY:Mai à Vélo 2026
CATEGORIE:Sports
GEO:45.90720000000000;6.69674000000000
LOCATION:Etablissement Mont Blanc SNCF\, 240 Rue du Stade France\, 74170 Saint-Gervais-les-Bains\, France
URL:https://www.fest.fr/e/2405869
UID:2405869-27@fest.fr
END:VEVENT
BEGIN:VEVENT
DTSTART;TZID=Europe/Paris:20260527T020000
DTEND;TZID=Europe/Paris:20260527T030000
SUMMARY:Mai à Vélo 2026
CATEGORIE:Sports
GEO:45.90720000000000;6.69674000000000
LOCATION:Etablissement Mont Blanc SNCF\, 240 Rue du Stade France\, 74170 Saint-Gervais-les-Bains\, France
URL:https://www.fest.fr/e/2405869
UID:2405869-28@fest.fr
END:VEVENT
BEGIN:VEVENT
DTSTART;TZID=Europe/Paris:20260528T020000
DTEND;TZID=Europe/Paris:20260528T030000
SUMMARY:Mai à Vélo 2026
CATEGORIE:Sports
GEO:45.90720000000000;6.69674000000000
LOCATION:Etablissement Mont Blanc SNCF\, 240 Rue du Stade France\, 74170 Saint-Gervais-les-Bains\, France
URL:https://www.fest.fr/e/2405869
UID:2405869-29@fest.fr
END:VEVENT
BEGIN:VEVENT
DTSTART;TZID=Europe/Paris:20260529T020000
DTEND;TZID=Europe/Paris:20260529T030000
SUMMARY:Mai à Vélo 2026
CATEGORIE:Sports
GEO:45.90720000000000;6.69674000000000
LOCATION:Etablissement Mont Blanc SNCF\, 240 Rue du Stade France\, 74170 Saint-Gervais-les-Bains\, France
URL:https://www.fest.fr/e/2405869
UID:2405869-30@fest.fr
END:VEVENT
BEGIN:VEVENT
DTSTART;TZID=Europe/Paris:20260530T020000
DTEND;TZID=Europe/Paris:20260530T030000
SUMMARY:Mai à Vélo 2026
CATEGORIE:Sports
GEO:45.90720000000000;6.69674000000000
LOCATION:Etablissement Mont Blanc SNCF\, 240 Rue du Stade France\, 74170 Saint-Gervais-les-Bains\, France
URL:https://www.fest.fr/e/2405869
UID:2405869-31@fest.fr
END:VEVENT
BEGIN:VEVENT
DTSTART;TZID=Europe/Paris:20260531T020000
DTEND;TZID=Europe/Paris:20260531T030000
SUMMARY:Mai à Vélo 2026
CATEGORIE:Sports
GEO:45.90720000000000;6.69674000000000
LOCATION:Etablissement Mont Blanc SNCF\, 240 Rue du Stade France\, 74170 Saint-Gervais-les-Bains\, France
URL:https://www.fest.fr/e/2405869
UID:2405869-32@fest.fr
END:VEVENT
END:VCALENDAR
