BEGIN:VCALENDAR
CALSCALE:GREGORIAN
VERSION:2.0
METHOD:PUBLISH 
X-WR-CALNAME:
BEGIN:VEVENT
DTSTART;TZID=Europe/Paris:20260605T200000
DTEND;TZID=Europe/Paris:20260605T210000
SUMMARY:Concert Amartia
CATEGORIE:Concerts et Musique
GEO:50.62665700000000;3.12618400000000
LOCATION:Kino\, 3a Rue du Barreau, 59650\, 59491 Villeneuve-d'Ascq\, France
URL:https://www.fest.fr/e/2405780
UID:2405780-1@fest.fr
END:VEVENT
END:VCALENDAR
