BEGIN:VCALENDAR
CALSCALE:GREGORIAN
VERSION:2.0
METHOD:PUBLISH 
X-WR-CALNAME:
BEGIN:VEVENT
DTSTART;TZID=Europe/Paris:20260507T193000
DTEND;TZID=Europe/Paris:20260507T203000
SUMMARY:Josem Solar à la Mac3
CATEGORIE:Concerts et Musique
GEO:44.80190970000000;-0.64885050000000
LOCATION:Mac3\, 18 Av. de Bardanac\, 33600 Pessac\, France
URL:https://www.fest.fr/e/2405705
UID:2405705-1@fest.fr
END:VEVENT
END:VCALENDAR
