BEGIN:VCALENDAR
CALSCALE:GREGORIAN
VERSION:2.0
METHOD:PUBLISH 
X-WR-CALNAME:
BEGIN:VEVENT
DTSTART;TZID=Europe/Paris:20260414T100000
DTEND;TZID=Europe/Paris:20260414T110000
SUMMARY:Raoul Lala : Opération CCR 2026
CATEGORIE:Expositions, Visites et Découvertes
GEO:43.30899900000000;5.38689600000000
LOCATION:1 Rue Clovis Hugues
Centre de Conservation et de Ressources du Mucem\, 13003 Marseille 3e\, France
URL:https://www.fest.fr/e/2405661
UID:2405661-1@fest.fr
END:VEVENT
BEGIN:VEVENT
DTSTART;TZID=Europe/Paris:20260421T100000
DTEND;TZID=Europe/Paris:20260421T110000
SUMMARY:Raoul Lala : Opération CCR 2026
CATEGORIE:Expositions, Visites et Découvertes
GEO:43.30899900000000;5.38689600000000
LOCATION:1 Rue Clovis Hugues
Centre de Conservation et de Ressources du Mucem\, 13003 Marseille 3e\, France
URL:https://www.fest.fr/e/2405661
UID:2405661-2@fest.fr
END:VEVENT
END:VCALENDAR
