BEGIN:VCALENDAR
CALSCALE:GREGORIAN
VERSION:2.0
METHOD:PUBLISH 
X-WR-CALNAME:
BEGIN:VEVENT
DTSTART;TZID=Europe/Paris:20260610T090000
DTEND;TZID=Europe/Paris:20260610T100000
SUMMARY:Les insectes du coussoul
CATEGORIE:Expositions, Visites et Découvertes
GEO:43.63713900000000;4.80616700000000
LOCATION:2  Place Léon Michaud
Écomusée de la Crau\, 13310 Saint-Martin-de-Crau\, France
URL:https://www.fest.fr/e/2405649
UID:2405649-1@fest.fr
END:VEVENT
END:VCALENDAR
