BEGIN:VCALENDAR
CALSCALE:GREGORIAN
VERSION:2.0
METHOD:PUBLISH 
X-WR-CALNAME:
BEGIN:VEVENT
DTSTART;TZID=Europe/Paris:20260612T123456
DTEND;TZID=Europe/Paris:20260612T133456
SUMMARY:Exposition Hôtel de Sade : Vol au-dessus des Monuments
CATEGORIE:Expositions, Visites et Découvertes
GEO:43.78926000000000;4.83096100000000
LOCATION:1 rue du Parage
Centre d'Archéologie Antique - Hôtel de Sade\, 13210 Saint-Rémy-de-Provence\, France
URL:https://www.fest.fr/e/2405609
UID:2405609-1@fest.fr
END:VEVENT
END:VCALENDAR
