BEGIN:VCALENDAR
CALSCALE:GREGORIAN
VERSION:2.0
METHOD:PUBLISH 
X-WR-CALNAME:
BEGIN:VEVENT
DTSTART;TZID=Europe/Paris:20260407T123456
DTEND;TZID=Europe/Paris:20260407T133456
SUMMARY:Chasse aux œufs
CATEGORIE:Jeux et Concours
GEO:48.10942660000000;4.37503390000000
LOCATION:Médiathèque Goncourt\, 10110 Bar-sur-Seine\, France
URL:https://www.fest.fr/e/2405056
UID:2405056-1@fest.fr
END:VEVENT
END:VCALENDAR
