BEGIN:VCALENDAR
CALSCALE:GREGORIAN
VERSION:2.0
METHOD:PUBLISH 
X-WR-CALNAME:
BEGIN:VEVENT
DTSTART;TZID=Europe/Paris:20260524T140000
DTEND;TZID=Europe/Paris:20260524T150000
SUMMARY:Visite guidée "Maître verrier au temps des Comtes"
CATEGORIE:Expositions, Visites et Découvertes
GEO:48.29863900000000;4.07861300000000
LOCATION:Cité du Vitrail\, 10000 Troyes\, France
URL:https://www.fest.fr/e/2405053
UID:2405053-1@fest.fr
END:VEVENT
BEGIN:VEVENT
DTSTART;TZID=Europe/Paris:20260613T103000
DTEND;TZID=Europe/Paris:20260613T113000
SUMMARY:Visite guidée "Maître verrier au temps des Comtes"
CATEGORIE:Expositions, Visites et Découvertes
GEO:48.29863900000000;4.07861300000000
LOCATION:Cité du Vitrail\, 10000 Troyes\, France
URL:https://www.fest.fr/e/2405053
UID:2405053-2@fest.fr
END:VEVENT
BEGIN:VEVENT
DTSTART;TZID=Europe/Paris:20260711T103000
DTEND;TZID=Europe/Paris:20260711T113000
SUMMARY:Visite guidée "Maître verrier au temps des Comtes"
CATEGORIE:Expositions, Visites et Découvertes
GEO:48.29863900000000;4.07861300000000
LOCATION:Cité du Vitrail\, 10000 Troyes\, France
URL:https://www.fest.fr/e/2405053
UID:2405053-3@fest.fr
END:VEVENT
BEGIN:VEVENT
DTSTART;TZID=Europe/Paris:20260726T103000
DTEND;TZID=Europe/Paris:20260726T113000
SUMMARY:Visite guidée "Maître verrier au temps des Comtes"
CATEGORIE:Expositions, Visites et Découvertes
GEO:48.29863900000000;4.07861300000000
LOCATION:Cité du Vitrail\, 10000 Troyes\, France
URL:https://www.fest.fr/e/2405053
UID:2405053-4@fest.fr
END:VEVENT
BEGIN:VEVENT
DTSTART;TZID=Europe/Paris:20260912T103000
DTEND;TZID=Europe/Paris:20260912T113000
SUMMARY:Visite guidée "Maître verrier au temps des Comtes"
CATEGORIE:Expositions, Visites et Découvertes
GEO:48.29863900000000;4.07861300000000
LOCATION:Cité du Vitrail\, 10000 Troyes\, France
URL:https://www.fest.fr/e/2405053
UID:2405053-5@fest.fr
END:VEVENT
END:VCALENDAR
