BEGIN:VCALENDAR
CALSCALE:GREGORIAN
VERSION:2.0
METHOD:PUBLISH 
X-WR-CALNAME:
BEGIN:VEVENT
DTSTART;TZID=Europe/Paris:20260502T090000
DTEND;TZID=Europe/Paris:20260502T100000
SUMMARY:Animation pêche
CATEGORIE:Stages, Ateliers et Initiations
GEO:45.11574700000000;4.28370800000000
LOCATION:Le pont
RDV Parking de l'ancien tennis\, 43190 Tence\, France
URL:https://www.fest.fr/e/2404948
UID:2404948-1@fest.fr
END:VEVENT
END:VCALENDAR
