BEGIN:VCALENDAR
CALSCALE:GREGORIAN
VERSION:2.0
METHOD:PUBLISH 
X-WR-CALNAME:
BEGIN:VEVENT
DTSTART;TZID=Europe/Paris:20260520T180000
DTEND;TZID=Europe/Paris:20260520T190000
SUMMARY:Ciné-rencontre 'De la résistance à la résilience'
CATEGORIE:Conférences, Forums et Débats
GEO:48.46970500000000;6.13930400000000
LOCATION:1 place des anciens combattants\, 54116 Tantonville\, France
URL:https://www.fest.fr/e/2404813
UID:2404813-1@fest.fr
END:VEVENT
END:VCALENDAR
