BEGIN:VCALENDAR
CALSCALE:GREGORIAN
VERSION:2.0
METHOD:PUBLISH 
X-WR-CALNAME:
BEGIN:VEVENT
DTSTART;TZID=Europe/Paris:20260418T203000
DTEND;TZID=Europe/Paris:20260418T213000
SUMMARY:Pièce de théâtre Du Rififi Au Couvent
CATEGORIE:Spectacles et Théâtre
GEO:47.96647300000000;6.46501400000000
LOCATION:Allée des deux Augustins
Cinéduc\, 88370 Plombières-les-Bains\, France
URL:https://www.fest.fr/e/2404808
UID:2404808-1@fest.fr
END:VEVENT
END:VCALENDAR
