BEGIN:VCALENDAR
CALSCALE:GREGORIAN
VERSION:2.0
METHOD:PUBLISH 
X-WR-CALNAME:
BEGIN:VEVENT
DTSTART;TZID=Europe/Paris:20260604T100000
DTEND;TZID=Europe/Paris:20260604T110000
SUMMARY:Place à l'emploi
CATEGORIE:Marchés, Foires et Salons
GEO:49.77352600000000;4.72090100000000
LOCATION:Place Ducale, Charleville-Mézières\, Place Ducale\, 08000 Charleville-Mézières\, France
URL:https://www.fest.fr/e/2404610
UID:2404610-1@fest.fr
END:VEVENT
END:VCALENDAR
