BEGIN:VCALENDAR
CALSCALE:GREGORIAN
VERSION:2.0
METHOD:PUBLISH 
X-WR-CALNAME:
BEGIN:VEVENT
DTSTART;TZID=Europe/Paris:20261101T150000
DTEND;TZID=Europe/Paris:20261101T160000
SUMMARY:K-Pop Shadow Hunters - Tournée
CATEGORIE:Concerts et musique
GEO:43.56253074311000;4.08080613702300
LOCATION:Pasino de la Grande Motte - Casino Partouche\, 335 allée des Parcs\, 34280 La Grande-Motte\, France
URL:https://www.fest.fr/e/2404247
UID:2404247-1@fest.fr
END:VEVENT
END:VCALENDAR
