BEGIN:VCALENDAR
CALSCALE:GREGORIAN
VERSION:2.0
METHOD:PUBLISH 
X-WR-CALNAME:
BEGIN:VEVENT
DTSTART;TZID=Europe/Paris:20260411T190000
DTEND;TZID=Europe/Paris:20260411T200000
SUMMARY:Soirée antillaise
CATEGORIE:Bals et Thés Dansants
GEO:46.73402000000000;2.49898300000000
LOCATION:Avenue Sully\, 18200 Saint-Amand-Montrond\, France
URL:https://www.fest.fr/e/2404051
UID:2404051-1@fest.fr
END:VEVENT
END:VCALENDAR
