BEGIN:VCALENDAR
CALSCALE:GREGORIAN
VERSION:2.0
METHOD:PUBLISH 
X-WR-CALNAME:
BEGIN:VEVENT
DTSTART;TZID=Europe/Paris:20260406T123456
DTEND;TZID=Europe/Paris:20260406T133456
SUMMARY:Brocante de Pâques
CATEGORIE:Brocantes, Bourses et Vide-Greniers
GEO:47.01233890000000;0.32410173000000
LOCATION:Place du Marché et les Halles\, 37120 Richelieu\, France
URL:https://www.fest.fr/e/2404032
UID:2404032-1@fest.fr
END:VEVENT
END:VCALENDAR
