BEGIN:VCALENDAR
CALSCALE:GREGORIAN
VERSION:2.0
METHOD:PUBLISH 
X-WR-CALNAME:
BEGIN:VEVENT
DTSTART;TZID=Europe/Paris:20260425T193000
DTEND;TZID=Europe/Paris:20260425T203000
SUMMARY:Soirée moules frites
CATEGORIE:Fêtes et Animations
GEO:48.60885160000000;0.95762160000000
LOCATION:1 Place de la Mairie\, 28250 La Puisaye\, France
URL:https://www.fest.fr/e/2404031
UID:2404031-1@fest.fr
END:VEVENT
END:VCALENDAR
