BEGIN:VCALENDAR
CALSCALE:GREGORIAN
VERSION:2.0
METHOD:PUBLISH 
X-WR-CALNAME:
BEGIN:VEVENT
DTSTART;TZID=Europe/Paris:20260422T193000
DTEND;TZID=Europe/Paris:20260422T203000
SUMMARY:Étincelles D’Humanité By Kim Prod
CATEGORIE:Concerts et musique
GEO:43.29326980000000;5.39174830000002
LOCATION:Le Makeda\, 103 Rue Ferrari\, 13005 Marseille 5e\, France
URL:https://www.fest.fr/e/2403848
UID:2403848-1@fest.fr
END:VEVENT
END:VCALENDAR
