BEGIN:VCALENDAR
CALSCALE:GREGORIAN
VERSION:2.0
METHOD:PUBLISH 
X-WR-CALNAME:
BEGIN:VEVENT
DTSTART;TZID=Europe/Paris:20260519T190000
DTEND;TZID=Europe/Paris:20260519T200000
SUMMARY:Soirée ciné discussion &quot;Et je choisis de vivre&quot;
CATEGORIE:Social et solidaire
GEO:46.38938075470220;5.56467345407467
LOCATION:Recyclerie\, 7 rue Fontaine du Frêne\, 39240 Arinthod\, France
URL:https://www.fest.fr/e/2403751
UID:2403751-1@fest.fr
END:VEVENT
END:VCALENDAR
