BEGIN:VCALENDAR
CALSCALE:GREGORIAN
VERSION:2.0
METHOD:PUBLISH 
X-WR-CALNAME:
BEGIN:VEVENT
DTSTART;TZID=Europe/Paris:20270116T200000
DTEND;TZID=Europe/Paris:20270116T210000
SUMMARY:Jeanfi Janssens - Tombé du Ciel - Tournée
CATEGORIE:Spectacles et théâtre
GEO:48.49867325224000;-2.76491135311500
LOCATION:L'HERMIONE\, RUE PIERRE DE COUBERTIN\, 22000 Saint-Brieuc\, France
URL:https://www.fest.fr/e/2403564
UID:2403564-1@fest.fr
END:VEVENT
END:VCALENDAR
